BEGIN:VCALENDAR
VERSION:2.0
PRODID:-//NeoSCCA - ECPv6.15.20//NONSGML v1.0//EN
CALSCALE:GREGORIAN
METHOD:PUBLISH
X-ORIGINAL-URL:https://neohioscca.com
X-WR-CALDESC:Events for NeoSCCA
REFRESH-INTERVAL;VALUE=DURATION:PT1H
X-Robots-Tag:noindex
X-PUBLISHED-TTL:PT1H
BEGIN:VTIMEZONE
TZID:UTC
BEGIN:STANDARD
TZOFFSETFROM:+0000
TZOFFSETTO:+0000
TZNAME:UTC
DTSTART:20240101T000000
END:STANDARD
END:VTIMEZONE
BEGIN:VEVENT
DTSTART;VALUE=DATE:20250608
DTEND;VALUE=DATE:20250609
DTSTAMP:20260423T131721
CREATED:20250319T233617Z
LAST-MODIFIED:20250418T001623Z
UID:19901-1749340800-1749427199@neohioscca.com
SUMMARY:Solo Event #2
DESCRIPTION:About this event\n\nNEOHIO SCCA is excited to be holding this Points Event at the I-X Center in Cleveland\, Ohio\, with up to 25 acres of pavement! \nThis event is sponsored by: \n        \nAccording to the current guidelines of the I-X Center\, all participants and spectators must pre-register. Drivers are allowed crew members. Crew registration is not required. Only registered participants\, their crew\, and registered spectators are permitted. Registration is limited to 100 drivers for this event. If you have not pre-registered\, you will not be permitted onto the facility. When you arrive\, please use the east entrance. \nParticipants will be allowed to go off-site for lunch. There are several restaurants within 15 minutes of the I-X Center. However\, packed lunches are highly recommended since the schedule may be modified. Autocross is an all-day event. Please plan accordingly. \nSchedule \n\n\n\n7:00AM\nPaddock opens.\n\n\n8:00AM\nCheck-In & Tech opens\n\n\n9:00AM\nCourse open for walking. Meet at start line for a guided course walk\, mandatory for new/novice drivers.\n\n\n10:00AM\nFirst car on course for Heat 1.\n\n\nAfter final run\nAwards ceremony and unofficial results after course breakdown. \nOfficial results will be posted online within 2-3 days.\n\n\n6:00PM\nAll participants must be out of the facility.\n\n\n\nEntry Fees \n\n\n\n\nPre-pay online only\n\n\nSCCA Member\n$40.00\n\n\nNon-member\n(includes weekend member fee)\n$60.00\n\n\n\n\n\n\n\n\n\nEvent requirements\n\nImportant Information \n\nPlease review our mandatory Driver’s Rules and Guidelines\, here: Online Drivers Meeting.pdf\nThis event is pre-registration only due to venue regulations! All participants and spectators must be pre-registered to gain entry into the facility. No walkups or non-registered spectators will be allowed on-site.\nAll participants need to bring their valid\, state-issued driver’s license to check-in/registration. SCCA members need to bring their membership card.\nYour car number and class must be displayed clearly on both sides of the vehicle. Please avoid putting numbers on the windows. Those working in the timing trailer need to be able to identify your car at a distance at speed.\nEvent is held rain or shine\, with exception to dangerous weather conditions such as thunderstorms or tornadoes. Dress appropriately.\nCanopies over 100 square feet will not be permitted.\nDuring tech and during the event all cars will be observed for sound limits\, 100 decibels measured at approximately 75 feet. If you exceed the limit\, you will be given a chance to resolve the issue. If the issue is not resolved\, regretfully\, we will not allow you to continue running.\nPlease\, no open headers\, and at the very least your car should have mufflers. If you think your car is at risk\, do what you can to resolve it either before the event or come prepared to fix it in the paddock. We appreciate your cooperation and understanding. If it is determined that you cannot run\, we will work with you on a credit towards another event.\nVisit our website for more information regarding Solo events\, including tips on items to bring.
URL:https://neohioscca.com/event/solo-event-2/
LOCATION:I-X Center\, 1 I-X Center Drive\, Cleveland\, OH\, 44135\, United States
CATEGORIES:Solo
ATTACH;FMTTYPE=image/avif:https://neohioscca.com/wp-content/uploads/2025/03/download-1.avif
END:VEVENT
BEGIN:VEVENT
DTSTART;VALUE=DATE:20250621
DTEND;VALUE=DATE:20250622
DTSTAMP:20260423T131721
CREATED:20250319T233841Z
LAST-MODIFIED:20250418T001835Z
UID:19903-1750464000-1750550399@neohioscca.com
SUMMARY:Leroy Miata Cup Round 4
DESCRIPTION:This event will be LIMITED to registered LMC Drivers only! Entry is capped at 40 participants to allow for a significant number of runs for each driver. This will not be a Neohio SCCA points event.\n\nFor more information on the Leroy Miata Cup\, visit: https://leroyengineering.com/pages/leroy-miata-cup-2024-schedule \nThis will take place at the City of Eastlake lot near the corner of Vine Street and SOM Center Road\, across from Classic Park. \nA minor taking part in an SCCA event as a competitor\, on track participant\, or volunteer or worker with access to restricted (hot) areas must have an Annual Minor Waiver on file for the calendar year. For more information\, see Digital Annual Waiver Instructions.pdf​​​​​. \nThis event is sponsored by: \n  \nSchedule \n\n\n\n7:00AM\nPaddock opens\n\n\n8:00AM\nCourse open for walking\n\n\n8:30AM\nNovice walk (guided course tour)\n\n\n9:00AM\nDriver’s Meeting and work assignments given.\nAttendees split into two groups. Group A drives while Group B works the course\, and vice versa.\n\n\n9:30AM\nFirst car on course for Heat 1 with Group A driving\,\nfollowed by Heat 2 with Group B driving.\n\n\nAfter final run from Heats 1 & 2\nBreak for lunch\, 60 minutes\n\n\nAfter lunch\nRepeat – First car on course for Heat 1 with Group A driving\,\nfollowed by Heat 2 with Group B driving.\n\n\nAfter final run\nCourse breakdown\n\n\n\nEntry Fees \n\n\n\n\nPre-pay online only\n\n\nSCCA Member\n$40.00\n\n\nNon-member\n(includes weekend member fee)\n$60.00
URL:https://neohioscca.com/event/leroy-miata-challenge-2/
LOCATION:Captain’s Lot\, 35010 Vine St.\, Eastlake\, 44095\, United States
CATEGORIES:Solo
ATTACH;FMTTYPE=image/webp:https://neohioscca.com/wp-content/uploads/2025/03/download-2.webp
END:VEVENT
BEGIN:VEVENT
DTSTART;VALUE=DATE:20250622
DTEND;VALUE=DATE:20250623
DTSTAMP:20260423T131721
CREATED:20250319T233939Z
LAST-MODIFIED:20250418T002101Z
UID:19904-1750550400-1750636799@neohioscca.com
SUMMARY:Neohio Solo Novice Day
DESCRIPTION:Looking for some one-on-one training to hone your autocross skills? This is the event for you! Whether you are brand new to the sport and looking to learn the basics\, or you’ve been at it for a while and looking for some fine tuning\, we will help you improve your racing! Let us know your skill level when registering\, and we’ll pair you with an instructor to get you the training you need! Entry to this event is limited\, to ensure that all students get as many runs as possible. \n\nStudent registration closes May 23rd at 11:59pm so we have plenty of time to pull instructors and design the day around you! \nThis event is sponsored by: \n        \n\n\n\n\n\nEvent requirements\n\nImportant Information \n\nPlease review our mandatory Driver’s Rules and Guidelines\, here: Online Drivers Meeting.pdf\nAll participants need to bring their valid\, state-issued driver’s license to check-in/registration. SCCA members need to bring their membership card.\nYour car number and class must be displayed clearly on both sides of the vehicle. Please avoid putting numbers on the windows. Those working in the timing trailer need to be able to identify your car at a distance while you’re on course.\nEvent is held rain or shine\, with exception to dangerous weather conditions such as thunderstorms or tornadoes. Dress appropriately.\nDue to the location of this venue\, there is a possibility of noise complaints from the adjacent apartment complex. We want to be respectful and considerate of our neighbors. During tech and during the event all cars will be observed for sound limits\, 100 decibels measured at approximately 75 feet.\nVisit our website for more information regarding Solo events\, including tips on items to bring.
URL:https://neohioscca.com/event/solo-school/
LOCATION:Captain’s Lot\, 35010 Vine St.\, Eastlake\, 44095\, United States
CATEGORIES:Solo
ATTACH;FMTTYPE=image/avif:https://neohioscca.com/wp-content/uploads/2025/03/download-2.avif
END:VEVENT
END:VCALENDAR