BEGIN:VCALENDAR
VERSION:2.0
PRODID:-//NeoSCCA - ECPv6.15.20//NONSGML v1.0//EN
CALSCALE:GREGORIAN
METHOD:PUBLISH
X-WR-CALNAME:NeoSCCA
X-ORIGINAL-URL:https://neohioscca.com
X-WR-CALDESC:Events for NeoSCCA
REFRESH-INTERVAL;VALUE=DURATION:PT1H
X-Robots-Tag:noindex
X-PUBLISHED-TTL:PT1H
BEGIN:VTIMEZONE
TZID:UTC
BEGIN:STANDARD
TZOFFSETFROM:+0000
TZOFFSETTO:+0000
TZNAME:UTC
DTSTART:20240101T000000
END:STANDARD
END:VTIMEZONE
BEGIN:VEVENT
DTSTART;VALUE=DATE:20250928
DTEND;VALUE=DATE:20250929
DTSTAMP:20260423T223431
CREATED:20250418T003156Z
LAST-MODIFIED:20250418T003156Z
UID:19942-1759017600-1759103999@neohioscca.com
SUMMARY:Solo Points Event #6
DESCRIPTION:NEOHIO SCCA is excited to be holding this Points Event at the I-X Center in Cleveland\, Ohio\, with up to 25 acres of pavement! \nThis event is sponsored by: \n        \nAccording to the current guidelines of the I-X Center\, all participants and spectators must pre-register. Drivers are allowed crew members. Crew registration is not required. Only registered participants\, their crew\, and registered spectators are permitted. Registration is limited to 100 drivers for this event. If you have not pre-registered\, you will not be permitted onto the facility. When you arrive\, please use the east entrance. \nParticipants will be allowed to go off-site for lunch. There are several restaurants within 15 minutes of the I-X Center. However\, packed lunches are highly recommended since the schedule may be modified. Autocross is an all-day event. Please plan accordingly. \nSchedule \n\n\n\n7:00AM\nPaddock opens.\n\n\n8:00AM\nCheck-In & Tech opens\n\n\n9:00AM\nCourse open for walking. Meet at start line for a guided course walk\, mandatory for new/novice drivers.\n\n\n10:00AM\nFirst car on course for Heat 1.\n\n\nAfter final run\nAwards ceremony and unofficial results after course breakdown. \nOfficial results will be posted online within 2-3 days.\n\n\n6:00PM\nAll participants must be out of the facility.\n\n\n\nEntry Fees \n\n\n\n\nPre-pay online only\n\n\nSCCA Member\n$40.00\n\n\nNon-member\n(includes weekend member fee)\n$60.00\n\n\n\n\n\n\n\n\n\nEvent requirements\n\nImportant Information \n\nPlease review our mandatory Driver’s Rules and Guidelines\, here: Online Drivers Meeting.pdf\nThis event is pre-registration only due to venue regulations! All participants and spectators must be pre-registered to gain entry into the facility. No walkups or non-registered spectators will be allowed on-site.\nAll participants need to bring their valid\, state-issued driver’s license to check-in/registration. SCCA members need to bring their membership card.\nYour car number and class must be displayed clearly on both sides of the vehicle. Please avoid putting numbers on the windows. Those working in the timing trailer need to be able to identify your car at a distance at speed.\nEvent is held rain or shine\, with exception to dangerous weather conditions such as thunderstorms or tornadoes. Dress appropriately.\nCanopies over 100 square feet will not be permitted.\nDuring tech and during the event all cars will be observed for sound limits\, 100 decibels measured at approximately 75 feet. If you exceed the limit\, you will be given a chance to resolve the issue. If the issue is not resolved\, regretfully\, we will not allow you to continue running.\nPlease\, no open headers\, and at the very least your car should have mufflers. If you think your car is at risk\, do what you can to resolve it either before the event or come prepared to fix it in the paddock. We appreciate your cooperation and understanding. If it is determined that you cannot run\, we will work with you on a credit towards another event.\nVisit our website for more information regarding Solo events\, including tips on items to bring.
URL:https://neohioscca.com/event/solo-points-event-6/
LOCATION:I-X Center\, 1 I-X Center Drive\, Cleveland\, OH\, 44135\, United States
CATEGORIES:Solo
ATTACH;FMTTYPE=image/avif:https://neohioscca.com/wp-content/uploads/2025/04/download-6.avif
END:VEVENT
BEGIN:VEVENT
DTSTART;TZID=UTC:20260425T090000
DTEND;TZID=UTC:20260425T150000
DTSTAMP:20260423T223431
CREATED:20260107T003835Z
LAST-MODIFIED:20260321T003205Z
UID:20175-1777107600-1777129200@neohioscca.com
SUMMARY:Intro to Motorsports
DESCRIPTION:The Neohio Region of SCCA is excited to welcome you to the thrilling world of motorsports! \nWe will be showcasing all of our programs and how to get involved trackside at an engaging motorsports expo. Whether you are interested in driving or learning about the behind-the-scenes of racing\, this event is for you! Join us at Boss Pro-Karting on April 25 starting at 9:00 am! \nThis event includes lunch and one karting race\, a $40 value for just $10! You must be checked in by 10:00 AM to be eligible to race. \nTHIS EVENT IS ONLY OPEN TO NON-SCCA MEMBERS! \nThe day will include presentations from program representatives covering Solo\, Street Survival\, RallyCross\, Road Rally\, Time Trials and Road Racing. There will be presentations by representatives from all of our volunteer specialties as well so you can learn about opportunities to get involved in aspects of the sport such as Flagging & Communications (Corner Marshals)\, Emergency Services\, Timing & Scoring\, Tech\, Registration\, Pit & Grid and so on.  We will also have a variety of sponsors there from various companies that support motorsports enthusiasts. \nThis exciting day will include: presentations\, karting\, information stations\, a car show and valuable door prizes including Summit Racing Gift Cards and a Road-Keeper Video/Data Acquisition System! \nDONUTS AND COFFEE ARE PROVIDED AND FREE! ALL PRE-REGISTERED PARTICIPANTS WILL RECEIVE A FREE GIFT! \nREGISTER HERE! \nVIEW EVENT SCHEDULE
URL:https://neohioscca.com/event/day-of-motorsports-expo/
LOCATION:BOSS Pro Karting\, 18301 Brookpark Rd\, Brook Park\, OH\, 44142-1519\, United States
CATEGORIES:Club Racing,Endurance Racing,Neohio Events,Rally Cross,Road Rally,Solo,Street Survival,Time Trails
ATTACH;FMTTYPE=image/jpeg:https://neohioscca.com/wp-content/uploads/2025/10/7R300423.jpg
END:VEVENT
BEGIN:VEVENT
DTSTART;VALUE=DATE:20260530
DTEND;VALUE=DATE:20260531
DTSTAMP:20260423T223431
CREATED:20260321T005841Z
LAST-MODIFIED:20260321T005841Z
UID:20216-1780099200-1780185599@neohioscca.com
SUMMARY:Solo Points Event #1
DESCRIPTION:More information and registration link coming soon!
URL:https://neohioscca.com/event/solo-points-event-1/
LOCATION:Captain’s Lot\, 35010 Vine St.\, Eastlake\, 44095\, United States
CATEGORIES:Solo
ATTACH;FMTTYPE=image/jpeg:https://neohioscca.com/wp-content/uploads/2023/05/DSC_0020-scaled.jpg
END:VEVENT
BEGIN:VEVENT
DTSTART;TZID=UTC:20260620T000000
DTEND;TZID=UTC:20260620T000000
DTSTAMP:20260423T223431
CREATED:20260321T010044Z
LAST-MODIFIED:20260321T010044Z
UID:20217-1781913600-1781913600@neohioscca.com
SUMMARY:Solo Points Event #2
DESCRIPTION:More information and registration link coming soon!
URL:https://neohioscca.com/event/solo-points-event-1-2/
LOCATION:Captain’s Lot\, 35010 Vine St.\, Eastlake\, 44095\, United States
CATEGORIES:Solo
ATTACH;FMTTYPE=image/jpeg:https://neohioscca.com/wp-content/uploads/2023/05/DSC_0011-scaled.jpg
END:VEVENT
BEGIN:VEVENT
DTSTART;VALUE=DATE:20260808
DTEND;VALUE=DATE:20260809
DTSTAMP:20260423T223431
CREATED:20260321T010224Z
LAST-MODIFIED:20260321T010224Z
UID:20218-1786147200-1786233599@neohioscca.com
SUMMARY:Solo Points Event #3
DESCRIPTION:More information and registration link coming soon!
URL:https://neohioscca.com/event/solo-points-event-3-2/
LOCATION:Captain’s Lot\, 35010 Vine St.\, Eastlake\, 44095\, United States
CATEGORIES:Solo
ATTACH;FMTTYPE=image/jpeg:https://neohioscca.com/wp-content/uploads/2023/05/DSC_0043-scaled.jpg
END:VEVENT
BEGIN:VEVENT
DTSTART;VALUE=DATE:20260823
DTEND;VALUE=DATE:20260824
DTSTAMP:20260423T223431
CREATED:20260321T010503Z
LAST-MODIFIED:20260321T010503Z
UID:20220-1787443200-1787529599@neohioscca.com
SUMMARY:Solo Points Event #4
DESCRIPTION:More information and registration link coming soon!
URL:https://neohioscca.com/event/solo-points-event-4/
LOCATION:Captain’s Lot\, 35010 Vine St.\, Eastlake\, 44095\, United States
CATEGORIES:Solo
ATTACH;FMTTYPE=image/jpeg:https://neohioscca.com/wp-content/uploads/2023/05/DSC_0116-scaled.jpg
END:VEVENT
BEGIN:VEVENT
DTSTART;VALUE=DATE:20260927
DTEND;VALUE=DATE:20260928
DTSTAMP:20260423T223431
CREATED:20260321T010727Z
LAST-MODIFIED:20260321T010727Z
UID:20222-1790467200-1790553599@neohioscca.com
SUMMARY:Solo Points Event #6
DESCRIPTION:More information and registration link coming soon!
URL:https://neohioscca.com/event/solo-points-event-6-2/
LOCATION:BOSS Pro Karting\, 18301 Brookpark Rd\, Brook Park\, OH\, 44142-1519\, United States
CATEGORIES:Solo
ATTACH;FMTTYPE=image/jpeg:https://neohioscca.com/wp-content/uploads/2023/05/DSC_0124-scaled.jpg
END:VEVENT
END:VCALENDAR