BEGIN:VCALENDAR
VERSION:2.0
PRODID:-//NeoSCCA - ECPv6.15.20//NONSGML v1.0//EN
CALSCALE:GREGORIAN
METHOD:PUBLISH
X-WR-CALNAME:NeoSCCA
X-ORIGINAL-URL:https://neohioscca.com
X-WR-CALDESC:Events for NeoSCCA
REFRESH-INTERVAL;VALUE=DURATION:PT1H
X-Robots-Tag:noindex
X-PUBLISHED-TTL:PT1H
BEGIN:VTIMEZONE
TZID:UTC
BEGIN:STANDARD
TZOFFSETFROM:+0000
TZOFFSETTO:+0000
TZNAME:UTC
DTSTART:20210101T000000
END:STANDARD
END:VTIMEZONE
BEGIN:VEVENT
DTSTART;TZID=UTC:20220701T080000
DTEND;TZID=UTC:20220701T170000
DTSTAMP:20260420T190239
CREATED:20220608T152735Z
LAST-MODIFIED:20220608T153218Z
UID:16659-1656662400-1656694800@neohioscca.com
SUMMARY:Testing Event Solo
DESCRIPTION:Morbi mollis tellus ac sapien. In turpis. Pellentesque dapibus hendrerit tortor. Curabitur turpis. Praesent nec nisl a purus blandit viverra.
URL:https://neohioscca.com/event/testing-event-solo/
LOCATION:OH
CATEGORIES:Solo
ATTACH;FMTTYPE=image/jpeg:https://neohioscca.com/wp-content/uploads/2022/06/first-gear-mazda-challenge-update-from-the-glen.jpg
END:VEVENT
BEGIN:VEVENT
DTSTART;TZID=UTC:20220607T193000
DTEND;TZID=UTC:20220607T213000
DTSTAMP:20260420T190239
CREATED:20220520T133409Z
LAST-MODIFIED:20220520T133446Z
UID:16417-1654630200-1654637400@neohioscca.com
SUMMARY:NEOHIO SCCA Monthly Meeting @ ZOOM
DESCRIPTION:The monthly meeting of the Officers\, Trustees\, Chairs\, and Competition Board to discuss Neohio Region matters. All Neohio members are welcome and encouraged to attend.\nTypical duration: 1-2 hours.
URL:https://neohioscca.com/event/neohio-scca-monthly-meeting-zoom/
LOCATION:OH
CATEGORIES:Monthly Meeting
ATTACH;FMTTYPE=image/jpeg:https://neohioscca.com/wp-content/uploads/2022/05/chris-montgomery-smgTvepind4-unsplash.jpg
END:VEVENT
END:VCALENDAR